BEGIN:VCALENDAR
VERSION:2.0
PRODID:-//Australia China Friendship Society - ECPv5.3.0//NONSGML v1.0//EN
CALSCALE:GREGORIAN
METHOD:PUBLISH
X-WR-CALNAME:Australia China Friendship Society
X-ORIGINAL-URL:http://acfs.org.au
X-WR-CALDESC:Events for Australia China Friendship Society
BEGIN:VTIMEZONE
TZID:UTC
BEGIN:STANDARD
TZOFFSETFROM:+0000
TZOFFSETTO:+0000
TZNAME:UTC
DTSTART:20190101T000000
END:STANDARD
END:VTIMEZONE
BEGIN:VEVENT
DTSTART;TZID=UTC:20191006T140000
DTEND;TZID=UTC:20191006T170000
DTSTAMP:20210226T150033
CREATED:20190919T235531Z
LAST-MODIFIED:20190920T002319Z
UID:318-1570370400-1570381200@acfs.org.au
SUMMARY:Dreaming of Jiangnan
DESCRIPTION:Concert of music from Southern China by the Sydney Conservatorium of Music and ANU Chinese Music Ensembles \nVenue: Australian Centre on China in the World\, Fellows Lane\, ANU \nTickets : http://www.trybooking.com/541923 \nPrices : Child (under 10 years) – $5; Student – $10; Concession/Member – $15; Adult \nFor details click here
URL:http://acfs.org.au/event/dreaming-of-jiangnan/
END:VEVENT
END:VCALENDAR